BEGIN:VCALENDAR
VERSION:2.0
PRODID:-//hacksw/handcal//NONSGML v1.0//EN
BEGIN:VEVENT
SUMMARY:Stage interne
UID:3418948d-192f-48b9-8de2-00a5260f3616
DTSTART:20260416T063000Z
DTEND:20260416T160000Z
LOCATION:Localisation   
CATEGORIES:Sportif
STATUS:
DESCRIPTION:<h1 style="text-align:center;"><strong>STAGE
 INTERNE</strong></h1>
 
 <p> </p>
 
 <p><span
 style="font-size:14px;">Date : 16 avril 2026</span></p>
 
 <p><span
 style="font-size:14px;">Lieu : Dojo de Ronchamp</span></p>
 
 <p><span
 style="font-size:14px;">Adresse : place du 14 juillet, 70250
 Ronchamp</span></p>
 
 <p>Horraires :</p>
 
 <ul>
 	<li>08 h 30 a 13 h 30
 : 2016 et 2017 (2018 ceinture jaune)</li>
 	<li>08 h 30 a 17 h 30 :
 2015 et avant</li>
 </ul>
 
 <p>Progamme (previsionnel)
 :</p>
 
 <ul>
 	<li>08 h 30 : accueil</li>
 	<li>08 h 45 :
 footing</li>
 	<li>09 h 30 : tachi-waza </li>
 	<li>10 h
 45 : commissaire sportif (validation UV4 pour les
 grades)</li>
 	<li>12 h 00 : repas tire du sac</li>
 	<li>13 h 30
 : arbitrage (Les judokas 2016 - 2017 - 2018 : assidus pourront
 rester) a la discretion des professeurs</li>
 	<li>14 h
 15 : ne-waza</li>
 	<li>15 h 30 : mini competition</li>
 	<li>17 h
 30 : Fin du
 stage</li>
 </ul>
 
 <p> </p>
 
 <p> </p>
 
 <p> </p>
 
 <p> </p>
 
 <p> </p>
URL;VALUE=URI:https://www.jcronchamp.fr/evenements/2026/04/16/stage-interne-2433668
END:VEVENT
END:VCALENDAR
