BEGIN:VCALENDAR
VERSION:2.0
PRODID:-//hacksw/handcal//NONSGML v1.0//EN
BEGIN:VEVENT
SUMMARY:Entrainement collectif Luxeuil les bains
UID:b9472ef8-6152-440e-a89d-4746945f916d
DTSTART:20260519T173000Z
DTEND:20260519T193000Z
LOCATION:Localisation PALLAIS DES SPORT - BOULEVARD RICHET 70200 LUXEUIL LES BAINS
CATEGORIES:Sportif
STATUS:
URL;VALUE=URI:https://www.jcronchamp.fr/evenements/2026/05/19/entrainement-collectif-luxeuil-les-bains-2427130
END:VEVENT
END:VCALENDAR
