BEGIN:VCALENDAR
VERSION:2.0
PRODID:-//hacksw/handcal//NONSGML v1.0//EN
BEGIN:VEVENT
SUMMARY:Criterium BFC benjamins
UID:4ab14cf2-0bea-47f5-9a14-4128096b39f3
DTSTART:20260522T220000Z
DTEND:20260523T220000Z
LOCATION:Localisation   
CATEGORIES:Sportif
STATUS:
DESCRIPTION:<h1 style="text-align:center;"><strong>CRITERIUM BFC
 BENJAMINS</strong></h1>
 
 <h2 style="text-align:center;"><strong>(SUR
 SELECTION)</strong></h2>
 
 <p> </p>
 
 <p><strong>Voir
 plaquette</strong></p>
URL;VALUE=URI:https://www.jcronchamp.fr/evenements/2026/05/23/criterium-bfc-benjamins-2433999
END:VEVENT
END:VCALENDAR
