BEGIN:VCALENDAR
VERSION:2.0
PRODID:-//hacksw/handcal//NONSGML v1.0//EN
BEGIN:VEVENT
SUMMARY:Fin de saison 2025 - 2026
UID:1468a534-014c-48fc-8a10-dd697bec95d7
DTSTART:20260626T163000Z
DTEND:20260626T183000Z
LOCATION:Localisation   
CATEGORIES:Festif
STATUS:
DESCRIPTION:<p>Date : Vendredi 26 juin 2026</p>
 
 <p>Horaire : 18 h
 30</p>
 
 <p>Lieu : Dojo de Ronchamp</p>
 
 <p>Adresse : Place du 14
 juillet, 70250 Ronchamp</p>
 
 <p> </p>
 
 <p>Programme
 :</p>
 
 <ul>
 	<li>Bilan sportif de la saison</li>
 	<li>Remise des
 diplomes</li>
 	<li>Recompenses individuelles
 	<ul>
 		<li>Selon les
 resultats de la saison et le comportement</li>
 		<li>Resultats du
 challenge des judokas</li>
 	</ul>
 	</li>
 	<li>Cadeaux
 souvenir</li>
 	<li>Collation pour les judokas et les
 parents</li>
 </ul>
URL;VALUE=URI:https://www.jcronchamp.fr/evenements/2026/06/26/fin-de-saison-2025-2026-2434078
END:VEVENT
END:VCALENDAR
